BEGIN:VCALENDAR
VERSION:2.0
PRODID:-//Plone.org//NONSGML plone.app.event//EN
X-WR-TIMEZONE:Europe/Berlin
BEGIN:VEVENT
SUMMARY:1. Hessische Damenliga (Runde 8)
DTSTART;TZID=Europe/Berlin:20140405T140000
DTEND;TZID=Europe/Berlin:20140405T200000
DTSTAMP:20260421T132118Z
UID:4618f0c4a71346c2a62eb1451bb68b64@www.hessischer-schachverband.de
CREATED:20130517T131516Z
LAST-MODIFIED:20250530T103954Z
URL:https://www.hessischer-schachverband.de/event_listing/1-hessische-dame
 nliga-runde-8
END:VEVENT
BEGIN:VTIMEZONE
TZID:Europe/Berlin
X-LIC-LOCATION:Europe/Berlin
BEGIN:DAYLIGHT
DTSTART:20140330T030000
TZNAME:CEST
TZOFFSETFROM:+0100
TZOFFSETTO:+0200
END:DAYLIGHT
END:VTIMEZONE
END:VCALENDAR
